BEGIN:VCALENDAR
VERSION:2.0
PRODID:DPCALENDAR
CALSCALE:GREGORIAN
BEGIN:VTIMEZONE
TZID:Europe/Riga
BEGIN:STANDARD
DTSTART:20251026T010000
TZOFFSETFROM:+0300
TZOFFSETTO:+0200
TZNAME:EET
END:STANDARD
BEGIN:DAYLIGHT
DTSTART:20260329T010000
TZOFFSETFROM:+0200
TZOFFSETTO:+0300
TZNAME:EEST
END:DAYLIGHT
BEGIN:STANDARD
DTSTART:20261025T010000
TZOFFSETFROM:+0300
TZOFFSETTO:+0200
TZNAME:EET
END:STANDARD
END:VTIMEZONE
X-WR-TIMEZONE:Europe/Riga
BEGIN:VEVENT
DTSTART;TZID=Europe/Riga:20191109T150000
DTEND;TZID=Europe/Riga:20191109T210000
UID:30D9401B-6C0D-4EE7-BFFF-A349F453901D
SUMMARY:Gada balle-2019 Maltas pagasta pensionāriem
DTSTAMP:20191022T121927Z
DESCRIPTION:\N	Koncerts ar pa&scaron;māju kolektīviem, dažādas aktivitātes, dejas spēlēs Valdis un Normunds.\N	Lai rezervētu vietas pie galdiņiem - jāpiesakās zvanot pa m.t. 26117782 /Elīna/ vai tālr. 64632065 /KN/\N\N	Lūdzam pieteikties &scaron;ī gada apaļo /70, 80, 90, 100.../ gadu jubilārus.\N	Būsiet mīļi gaidīti.\N
X-ALT-DESC;FMTTYPE=text/html:<p>	Koncerts ar pa&scaron;māju kolektīviem, dažādas aktivitātes, dejas spēlēs Valdis un Normunds.<br />	Lai rezervētu vietas pie galdiņiem - jāpiesakās zvanot pa m.t. 26117782 /Elīna/ vai tālr. 64632065 /KN/</p><p>	Lūdzam pieteikties &scaron;ī gada apaļo /70, 80, 90, 100.../ gadu jubilārus.<br />	Būsiet mīļi gaidīti.</p>
LAST-MODIFIED:20191031T062008Z
X-ACCESS:1
X-HITS:457
X-URL:
X-COLOR:3366CC
END:VEVENT
END:VCALENDAR