BEGIN:VCALENDAR
VERSION:2.0
PRODID:DPCALENDAR
CALSCALE:GREGORIAN
BEGIN:VTIMEZONE
TZID:Europe/Riga
BEGIN:STANDARD
DTSTART:20251026T010000
TZOFFSETFROM:+0300
TZOFFSETTO:+0200
TZNAME:EET
END:STANDARD
BEGIN:DAYLIGHT
DTSTART:20260329T010000
TZOFFSETFROM:+0200
TZOFFSETTO:+0300
TZNAME:EEST
END:DAYLIGHT
BEGIN:STANDARD
DTSTART:20261025T010000
TZOFFSETFROM:+0300
TZOFFSETTO:+0200
TZNAME:EET
END:STANDARD
END:VTIMEZONE
X-WR-TIMEZONE:Europe/Riga
BEGIN:VEVENT
DTSTART;TZID=Europe/Riga:20191010T190000
DTEND;TZID=Europe/Riga:20191010T210000
UID:2F44DAAD-1471-44F0-8495-1D60352B1E04
SUMMARY:Latvijas jaunatnes čempionāts futbolā, U-16
DTSTAMP:20191003T081336Z
DESCRIPTION:\N	Latvijas jaunatnes čempionāts futbolā, U-16\N	FK Saules puikas - Liepājas FS\N
X-ALT-DESC;FMTTYPE=text/html:<p>	Latvijas jaunatnes čempionāts futbolā, U-16<br />	FK Saules puikas - Liepājas FS</p>
LOCATION:5 Sporta iela\, LV-4630 Malta\, Rēzekne Municipality\, Latvia
GEO:56.34923690;27.15537150
X-ACCESS:1
X-HITS:493
X-URL:
X-COLOR:51CC0A
END:VEVENT
END:VCALENDAR